BEGIN:VCALENDAR
PRODID:-//events.click-around.systems//click around EVENTS//DE
VERSION:2.0
METHOD:PUBLISH
BEGIN:VEVENT
CLASS:PUBLIC
DTSTART:20260425T193000
LOCATION:Theater, Großes Haus, Am Augustinerhof 3, 54290 Trier
DTSTAMP:20260425T114807
SUMMARY:Königskinder
DESCRIPTION:Ein deutsches Kunstmärchen erobert New York. Mit seinen „Königskindern“ ist Engelbert Humperdinck 1910 ein echter Coup gelungen, was vor allem an der genau austarierten Komposition liegt. Das Publikum der New Yorker Met war begeistert, ließ Puccini links liegen und hörte sich lieber das Kunstmärchen eines der letzten deutschen Romantiker an. Der hatte in Bayreuth bei Richard Wagner assistiert und dessen Stil weiterentwickelt und mit volkstümlichen Melodien bereichert. In dieser meisterhaften Mischung entstanden zwei der großartigsten Märchenopern. Die „Königskinder“ waren lange Jahre im Schatten der sehr viel bekannteren Oper „Hänsel und Gretel“ verschwunden – durchaus zu Unrecht. New Yorker Zeitungen schrieben nach der Uraufführung von der „wertvollsten Oper der nachwagnerschen Zeit“. Nun ist Humperdincks heimliches Hauptwerk am Theater Trier vor allem musikalisch wiederzuentdecken.\n\nDas Regieduo Eike Ecker und Ulrich Schulz richten die Inszenierung halbszenisch ein und lassen so viel Raum für die Musik, während die ausdrucksstarken Bilder des Abends einen weiteren, ganz eigenen Raum eröffnen. Durch die melodiös gewobenen Bögen leitet GMD Jochem Hochstenbach das Musiktheaterensemble. Humperdinck erzählt in der Oper auf seine ganz eigene, unnachahmliche Weise das Märchen der Gänsemagd und des Königssohns. Sie wird von der Hexe im Bann gehalten, er will Land und Leute kennenlernen. Und natürlich, beide verlieben sich ineinander. Als der König stirbt, weissagt die Hexe, dass am nächsten Tag um 12 Uhr der neue König durch das Stadttor schreitet. Während die Stadtbewohner die geflohene Gänsemagd und den als Knecht verkleideten Königssohn als Hochstapler vertreiben, erkennen alleine die Kinder die Liebenden als neues Königspaar.\n\nHumperdinck hat mit den „Königskindern“ ein Meisterwerk geschaffen, das lange Jahre Rarität war. Erst in den vergangenen 30 Jahren taucht es immer häufiger in den Spielplänen auf und lässt die spätromantische Musik humperdinckscher Manier wieder klingen. Ab Samstag, 11. April sind die „Königskinder“ auch am Theater Trier zu erleben.\n\nMusikalische Leitung: GMD Jochem Hochstenbach\nHalbszenische Einrichtung: Eike Ecker, Ulrich Schulz\nAusstattung und Lichtdesign: Ulrich Schulz\nChordirektion: Martin Folz\nDramaturgie: Malte Kühn\n\nMit: Gustavo Eda, Yuriy Hadzetskyy, Ryosuke Haskell Sato, Taeryul Kim, Vanessa Lisette López-Gallegos, Yusuke Matsumura, Lara Rieken, Derek Rue, Silja Schindler, Karsten Schröter, Janja Vuletic, Danita Weatherstone\n\nOpern- und Extrachor des Theaters Trier\nKinder- und Jugendchor des Theater Trier\nPhilharmonisches Orchester der Stadt Trier
UID:EVENTS-14969-113626
END:VEVENT
END:VCALENDAR