BEGIN:VCALENDAR
PRODID:-//events.click-around.systems//click around EVENTS//EN
VERSION:2.0
METHOD:PUBLISH
BEGIN:VEVENT
CLASS:PUBLIC
DTSTART:20260418T143000
LOCATION:Theater, Foyer, Am Augustinerhof 3, 54290 Trier
DTSTAMP:20260424T085618
SUMMARY:Theatercafé
DESCRIPTION:Wir stellen Ihnen die Premieren Victory im Sonnengruß und Kai zieht in den Krieg und kommt mit Opa zurück vor.
UID:EVENTS-14970-113631
END:VEVENT
END:VCALENDAR