BEGIN:VCALENDAR
PRODID:-//events.click-around.systems//click around EVENTS//DE
VERSION:2.0
METHOD:PUBLISH
BEGIN:VEVENT
CLASS:PUBLIC
DTSTART:20260422T193000
LOCATION:Theater, Großes Haus, Am Augustinerhof 3, 54290 Trier
DTSTAMP:20260424T084313
SUMMARY:Party in Versailles
DESCRIPTION:Wouter Padberg beleuchtet mit dem Philharmonischen Orchester der Stadt Trier das Panorama einer aufregenden Zeit der französischen Musikgeschichte, als Versailles der Nabel des europäischen Adels und die dort gespielte Musik Vorbild wurde für die anderen Zentren kulturellen Lebens.
UID:EVENTS-14971-113632
END:VEVENT
END:VCALENDAR