BEGIN:VCALENDAR
PRODID:-//events.click-around.systems//click around EVENTS//DE
VERSION:2.0
METHOD:PUBLISH
BEGIN:VEVENT
CLASS:PUBLIC
DTSTART:20260425T193000
DTEND:20260425T221000
LOCATION:Europahalle, Viehmarktplatz, 54290 Trier
DTSTAMP:20260425T115149
SUMMARY:Highland Saga
DESCRIPTION:
UID:EVENTS-14980-113660
END:VEVENT
END:VCALENDAR