BEGIN:VCALENDAR
PRODID:-//events.click-around.systems//click around EVENTS//EN
VERSION:2.0
METHOD:PUBLISH
BEGIN:VEVENT
CLASS:PUBLIC
DTSTART:20260418T200000
LOCATION:Hohe Domkirche, Domfreihof, 54290 Trier
DTSTAMP:20260424T090053
SUMMARY:Abendlob - Gebete & Gesänge aus Taizé
DESCRIPTION:gestaltet durch den ökumenischen Gebetskreis Trier
UID:EVENTS-15003-113842
END:VEVENT
END:VCALENDAR