BEGIN:VCALENDAR
PRODID:-//events.click-around.systems//click around EVENTS//EN
VERSION:2.0
METHOD:PUBLISH
BEGIN:VEVENT
CLASS:PUBLIC
DTSTART:20260420T210000
LOCATION:Hohe Domkirche, Domfreihof, 54290 Trier
DTSTAMP:20260424T085617
SUMMARY:Abendlob - Musik für Oboe & Orgel
DESCRIPTION:Musik : Byungki Lee (Oboe) und Regionalkantorin Dayoung Kang, Prüm (Orgel) \nWort: Samuel Koch, Autor und Schauspieler, München
UID:EVENTS-15005-113844
END:VEVENT
END:VCALENDAR