BEGIN:VCALENDAR
PRODID:-//events.click-around.systems//click around EVENTS//EN
VERSION:2.0
METHOD:PUBLISH
BEGIN:VEVENT
CLASS:PUBLIC
DTSTART:20260422T210000
LOCATION:Hohe Domkirche, Domfreihof, 54290 Trier
DTSTAMP:20260424T085913
SUMMARY:Abendlob - modern
DESCRIPTION:Musik: Ensemble Ars Nova Lux -  Maria Miteva (Flöte) &  Luc Hemmer (Vibraphone) \nWort: Prof. Dr. Ingo Proft, Vinzenz Pallotti University, Vallendar
UID:EVENTS-15006-113846
END:VEVENT
END:VCALENDAR