BEGIN:VCALENDAR
PRODID:-//events.click-around.systems//click around EVENTS//DE
VERSION:2.0
METHOD:PUBLISH
BEGIN:VEVENT
CLASS:PUBLIC
DTSTART:20260425T210000
LOCATION:Hohe Domkirche, Domfreihof, 54290 Trier
DTSTAMP:20260425T114520
SUMMARY:Abendlob - Du hüllst dich in Licht, wie ins Kleid
DESCRIPTION:Duett für Ohr & Auge - 40 Jahre UNESCO Welterbestätten Trier \nLichtkünstler Laurenz Theinert (Visual Piano) im improvisierten Dialog mit Domorganist Marcel Eliasch \n\nWort: Stephan Wahl, Priester und Poet, Jerusalem
UID:EVENTS-15009-113849
END:VEVENT
END:VCALENDAR