BEGIN:VCALENDAR
PRODID:-//events.click-around.systems//click around EVENTS//EN
VERSION:2.0
METHOD:PUBLISH
BEGIN:VEVENT
CLASS:PUBLIC
DTSTART:20260418T000000
LOCATION:Domfreihof, Kulturzelt, Domfreihof, 54290 Trier
DTSTAMP:20260424T092400
SUMMARY:Blue Basement & Kanonenfutter
DESCRIPTION:Aus dem BLUE BASEMENT schmettert die gleichnamige Combo mit Punk, Metal und allerlei was Rockmusik zu bieten hat, um sich. Was im Cover-Gewand daher kommt, entpuppt sich als absolut authentisch und voller Herzblut. Prädikat: sollte man nicht verpassen.\n\nKANONENFUTTER. Ob sie das sind oder andere dazu machen, bleibt dahingestellt. Dass aber die vorrangig deutschsprachigen Rock- und Punkcover ordentlich Wumms transportieren und auch noch stilsicher sind, ist absolut sicher!
UID:EVENTS-15012-113852
END:VEVENT
END:VCALENDAR