BEGIN:VCALENDAR
PRODID:-//events.click-around.systems//click around EVENTS//DE
VERSION:2.0
METHOD:PUBLISH
BEGIN:VEVENT
CLASS:PUBLIC
DTSTART:20260420T000000
LOCATION:Domfreihof, Kulturzelt, Domfreihof, 54290 Trier
DTSTAMP:20260424T085456
SUMMARY:The Wonderfrolleins
DESCRIPTION:Mit Witz, Charme und Temperament fegen die drei gestandenen Profi-Musikerinnen durchs deutsche Wirtschaftswunder der 50er und frühen 60er Jahre und reißen schon nach wenigen Takten ihr Publikum mit.\n\nHinein geht es in die Zeit von Connie und Catharina, von Caprifischern & Caprihosen und natürlich von Heimatfilmen & Halbstarken. So bunt wie ihre Petticoatkleider ist auch das Programm der „Wonderfrolleins“ ,\nwelches von Andrea Paredes Montes (Leadgesang, Gitarre), Lexi Rumpe l (Bass, Gesang) und Isabelle Bodenseh (Querflöte, Percussion, Gesang) höchst originell und virtuos gestaltet wird. \n\nVerstärkt wird das Frolleintrio durch den Schlagzeuger Rainer Rumpel, alias Don Giorgio. Musikalische Abstecher in andere Jahrzehnte sind da ebenso im Programm wie musikalische Reisen nach Übersee. \n\nMit „The Mamas & The Papas“ wird geträumt, mit Louis Prima geswingt und mit lateinamerikanischen Klängen aus Mexiko, Kuba oder Brasilien der Tropenzauber heraufbeschworen.
UID:EVENTS-15015-113855
END:VEVENT
END:VCALENDAR