BEGIN:VCALENDAR
PRODID:-//events.click-around.systems//click around EVENTS//EN
VERSION:2.0
METHOD:PUBLISH
BEGIN:VEVENT
CLASS:PUBLIC
DTSTART:20260422T000000
LOCATION:Domfreihof, Kulturzelt, Domfreihof, 54290 Trier
DTSTAMP:20260424T090102
SUMMARY:Rambling Rovers
DESCRIPTION:Seit nunmehr 30 Jahren streifen die "musikalischen Vagabunden" aus Trier in der deutschen Folkszene umher und haben ihre Songs und Melodien im Gepäck.\n\nDie Rovers entführen Sie mit ihren Jigs, Reels und Polkas in die alte Welt der rauchigen Pubs, der rauen Seefahrt und der irischen Liebeleien. Ursprünglich und kraftvoll – einfach irisch.\n\nVitalität, Fröhlichkeit, Spontaneität und instrumentelle Virtuosität vermitteln irisches Lebensgefühl, lassen Ihre Herzen springen, animieren Sie zum Mitsingen und zum Tanzen. The Power of Irish Folk!
UID:EVENTS-15017-113857
END:VEVENT
END:VCALENDAR