BEGIN:VCALENDAR
PRODID:-//events.click-around.systems//click around EVENTS//DE
VERSION:2.0
METHOD:PUBLISH
BEGIN:VEVENT
CLASS:PUBLIC
DTSTART:20260425T000000
LOCATION:Domfreihof, Kulturzelt, Domfreihof, 54290 Trier
DTSTAMP:20260425T115245
SUMMARY:Rough Mix
DESCRIPTION:Die Band rund um den Voice of Germany-Teilnehmer und Ausnahmesänger Elias Zobeley gründete sich bereits 2018 und setzt sich aus den fünf Musikern Elias Zobeley (Gesang/Gitarre), Johannes Donner (Leadgitarre), Simon Germann (Piano), David Rauth (E-Bass) und Schlagzeuger Noah Rauth zusammen.\n\nGar nicht so „rau“, sondern ein abwechslungsreicher Mix aus Pop, Rock und leichtem Soul - das ist der Sound, den „Rough Mix“ in inspirierenden Arrangements und mit viel Spielfreude auf die Bühne bringt. Auf dem Programm stehen Hits der letzten 40 Jahre. Dabei treffen echte Standards wie "Wild World" (Cat Stevens), "Every breath you take" (The Police), oder "Layla” (Eric Clapton) auf aktuelle Stücke wie "As It Was" (Harry Styles) oder "Pocahontas" (Annenmaykantereit).
UID:EVENTS-15020-113860
END:VEVENT
END:VCALENDAR