BEGIN:VCALENDAR
PRODID:-//events.click-around.systems//click around EVENTS//EN
VERSION:2.0
METHOD:PUBLISH
BEGIN:VEVENT
CLASS:PUBLIC
DTSTART:20260418T140000
LOCATION:Rheinisches Landesmuseum, Museumsfoyer, Weimarer Allee 1, 54290 Trier
DTSTAMP:20260424T085638
SUMMARY:Tast-Führung für blinde und sehbehinderte Menschen
DESCRIPTION:Bei dieser besonderen Führung begleitet die Gästeführerin Dorothee Serwe durch die Römische Abteilung. Ausgewählte originale Fundstücke können dabei mit den Händen ertastet werden, Replikate und Tastbilder vertiefen die Eindrücke.\n\nDauer: ca. 90 Minuten
UID:EVENTS-15030-113877
END:VEVENT
END:VCALENDAR