BEGIN:VCALENDAR
PRODID:-//events.click-around.systems//click around EVENTS//EN
VERSION:2.0
METHOD:PUBLISH
BEGIN:VEVENT
CLASS:PUBLIC
DTSTART:20260422T133000
LOCATION:Porta Nigra, Eingang, Simeonstraße 60, 54290 Trier
DTSTAMP:20260424T085933
SUMMARY:Kurzführung
DESCRIPTION:Welterbe-Häppchen: Unterwegs mit den Welterbe-Scouts – die Porta Nigra barrierefrei entdecken.\n\nDer Rundgang führt zu Bereichen der Porta Nigra, die auf Rollen gut erreichbar sind und gibt Einblicke in die Geschichte des Trierer Wahrzeichens.\n\nDauer: ca. 30 Minuten
UID:EVENTS-15031-113878
END:VEVENT
END:VCALENDAR