BEGIN:VCALENDAR
PRODID:-//events.click-around.systems//click around EVENTS//EN
VERSION:2.0
METHOD:PUBLISH
BEGIN:VEVENT
CLASS:PUBLIC
DTSTART:20260418T100000
DTEND:20260418T163000
LOCATION:Museum am Dom, Museumskasse, Platz der Menschenwürde 1, 54290 Trier
DTSTAMP:20260424T085811
SUMMARY:Kreative Auszeit - Objekte aus Ton herstellen
DESCRIPTION:Das Museum am Dom bietet den perfekten Ort, um dem Alltag einmal zu entfliehen. Anhand der Objekte des Museums nähern wir uns mit Dr. Kathrin Baumeister der Stofflichkeit von Kunst. Dann geht es in die lichtdurchfluteten ehemaligen Werkstätten und die Keramikerin Frauke Güntzel führt uns in die Arbeit mit dem alten Material Ton ein. Nach einer Mittagspause geht es am Nachmittag weiter mit der Umsetzung der eigenen Idee in die Wirklichkeit. Die Objekte werden im Museum gebrannt und glasiert und können später abgeholt werden. Es ist auch möglich an beiden Terminen teilzunehmen. Die Führung wird jeweils unterschiedliche Kunstwerke erläutern. \nDie Kursgebühr enthält die Kosten für das Material und das Brennen sowie den Eintritt ins Museum. \nTreffpunkt: Kasse Museum am Dom
UID:EVENTS-15057-114252
END:VEVENT
END:VCALENDAR