BEGIN:VCALENDAR
PRODID:-//events.click-around.systems//click around EVENTS//EN
VERSION:2.0
METHOD:PUBLISH
BEGIN:VEVENT
CLASS:PUBLIC
DTSTART:20260418T150000
LOCATION:Wissenschaftliche Bibliothek, Weberbach 25, 54290 Trier
DTSTAMP:20260424T090053
SUMMARY:Ottonische Buchmalerei
DESCRIPTION:
UID:EVENTS-15060-114257
END:VEVENT
END:VCALENDAR