BEGIN:VCALENDAR
PRODID:-//events.click-around.systems//click around EVENTS//DE
VERSION:2.0
METHOD:PUBLISH
BEGIN:VEVENT
CLASS:PUBLIC
DTSTART:20260425T150000
LOCATION:Tanzclub Fantasy, Schönbornstraße 3, 54295 Trier
DTSTAMP:20260425T114837
SUMMARY:Tag der offenen Tür
DESCRIPTION:Du wolltest schon immer tanzen, hast dich aber nie so richtig getraut? Oder suchst du einfach nach einem neuen Hobby mit guter Musik, netten Leuten und ganz viel Bewegung? \n\nDann komm vorbei und entdecke die Welt des Tanzens bei unserem Tag der offenen Tür!\n\n- Standard\n- Linedance\n- Latein\n\nEgal ob Anfänger oder mit Erfahrung, ob jung oder jung geblieben – bei uns ist jede*r willkommen!\n\nFreu dich auf:\n- Schnupperkurse zum Mitmachen\n- Einblicke in unsere Tanzgruppen\n- Gute Stimmung & neue Bekanntschaften\n\nBring gerne Freunde, Familie oder einfach gute Laune mit, wir kümmern uns um den Rest! 💫\n\nKomm vorbei und tanz mit uns – wir freuen uns auf dich!
UID:EVENTS-15067-114263
END:VEVENT
END:VCALENDAR