BEGIN:VCALENDAR
PRODID:-//events.click-around.systems//click around EVENTS//EN
VERSION:2.0
METHOD:PUBLISH
BEGIN:VEVENT
CLASS:PUBLIC
DTSTART:20260418T114500
LOCATION:CinemaxX, Moselstraße 17, 54290 Trier
DTSTAMP:20260424T085811
SUMMARY:BTS WORLD TOUR 'ARIRANG' IN GOYANG: LIVE VIEWING
DESCRIPTION:Die Pop-Royals BTS kehren mit ihrer mit Spannung erwarteten Welttournee auf die internationale Bühne zurück – ihre erste große Tournee seit etwa vier Jahren. Die Tournee umfasst 34 Städte weltweit mit insgesamt 82 Konzerten und beginnt mit wegweisenden Konzerten in Goyang (Südkorea) und Tokio (Japan).\n\nVerpassen nicht die Gelegenheit, zwei Konzerte in voller Länge live im  Kino zusehen.\n\nDie Welt-Tournee von BTS mit dem Titel „ARIRANG” begleitet ihr fünftes Album in voller Länge, dass die Identität der Gruppe durch ehrliche Selbstreflexion und universelle Emotionen wie Sehnsucht und tiefe Liebe widerspiegelt, verwoben mit Musik, die sie auf ihre eigene Weise definiert.\n\nMit einem spektakulären 360-Grad-Bühnenbild bietet die Show ein immersives Erlebnis, das das Publikum in den Mittelpunkt der Performance rückt. Erlebe gemeinsam die elektrisierenden Momente des kulturellen Comebacks von BTS auf der großen Leinwand weltweit, am 11. April aus Goyang und am 18. April aus Tokio.
UID:EVENTS-15071-114727
END:VEVENT
END:VCALENDAR