BEGIN:VCALENDAR
PRODID:-//events.click-around.systems//click around EVENTS//EN
VERSION:2.0
METHOD:PUBLISH
BEGIN:VEVENT
CLASS:PUBLIC
DTSTART:20260418T141500
LOCATION:Broadway Filmtheater, Paulinstraße 18, 54292 Trier
DTSTAMP:20260424T085617
SUMMARY:Jazzy - Chaos im Regenwald
DESCRIPTION:Jazzy, ein junges Orang-Utan-Mädchen, wird durch einen Waldbrand von ihren Eltern getrennt. Fortan wächst sie in einem Reservat auf, umgeben von anderen Tieren, die ihre Freunde geworden sind. Eines Abends entschließt sie sich jedoch, ihrem Instinkt zu folgen und sich auf die Suche nach ihrer Familie zu machen. Auf ihrem Abenteuer entdeckt Jazzy die Schönheit der Natur – und wie zerbrechlich diese ist. Jazzy stürzt sich in ein außergewöhnliches Abenteuer, um ihre Eltern zu finden und den Regenwald zu bewahren.
UID:EVENTS-15079-114683
END:VEVENT
END:VCALENDAR