BEGIN:VCALENDAR
PRODID:-//events.click-around.systems//click around EVENTS//EN
VERSION:2.0
METHOD:PUBLISH
BEGIN:VEVENT
CLASS:PUBLIC
DTSTART:20260422T190000
LOCATION:Trierischer Volksfreund, Medienhaus, Hanns-Martin-Schleyer-Straße 8, 54294 Trier
DTSTAMP:20260424T085730
SUMMARY:Spurensuche Live
DESCRIPTION:The Trierischer Volksfreund offers you the exclusive opportunity to join Trier's prominent Chief Public Prosecutor Eric Samel for a live podcast at the publishing house!\n\nKnown from the ZDF television series "Aktenzeichen XY ungelöst" (Case File XY Unsolved), Samel has handled some of the biggest cases at the Trier Regional Court over the years. As a guest on the Volksfreund's True Crime podcast "Spurensuche" (Trace Search), Samel will spend an evening discussing his work as a Chief Public Prosecutor for capital crimes and organized crime.\n\nWhich cases have stayed with him? How does he prepare for trials? And why does he like to visit the crime scenes where his cases were committed?\n\nThe podcast hosts, Alexander Wittlings and Johanna Heckeley (both from the Trierischer Volksfreund), will discuss these questions and other fascinating topics with him.\n\nRolf Seydewitz, Chief Reporter at the Trierischer Volksfreund and a regular trial observer, will also be a guest.\n\nJoin us live for the recording of this podcast episode on April 22nd. Join us at 7 p.m. in the editorial offices of the Trierischer Volksfreund newspaper.\n\nDoors open at 6:30 p.m.\n\nAdmission includes a soft drink.
UID:EVENTS-15082-114538
END:VEVENT
END:VCALENDAR