BEGIN:VCALENDAR
PRODID:-//events.click-around.systems//click around EVENTS//EN
VERSION:2.0
METHOD:PUBLISH
BEGIN:VEVENT
CLASS:PUBLIC
DTSTART:20260418T100000
DTEND:20260418T180000
LOCATION:Viehmarktplatz, 54290 Trier
DTSTAMP:20260424T085812
SUMMARY:7. Trierer Töpfermarkt
DESCRIPTION:Beim einzigen Töpfermarkt an der Mosel präsentieren etwa fünfunddreißig professionelle Töpfereien aus dem Bundesgebiet ihre selbst hergestellten Töpferwaren.\nDabei können wir auch in diesem Jahr wieder Töpfereien aus Belgien und Luxembourg begrüßen.\nMittlerweile gehört der Töpfermarkt zu den etablierten und am besten besuchten kulturellen Veranstaltungen in Trier.\n\nDas große Plus: Hier sind die Künstler persönlich vor Ort.\n\nEs ist faszinierend, welche Bandbreite an Keramik von den Künstlern angeboten wird. Ob bemalt, geritzt, glasiert, gedreht, aufgebaut, modelliert – die Möglichkeiten zur Bearbeitung des Grundstoffs „Ton“ sind unerschöpflich - und jeder Töpfer hat dabei seinen eigenen Stil.\nBeim Arbeiten mit dem Ton kann der Keramiker seiner Fantasie freien Lauf lassen. Aber erst durch den finalen Brand mit der eigenen Glasur und der passenden Brenntemperatur wird aus dem Naturprodukt Ton eine hochwertige Keramik.\nGerne beraten Sie die Töpfer auch in einem persönlichen Gespräch und erläutern Ihnen Ihre Techniken.\n\nDie Töpfertradition wurde 2016 in das bundesweite Verzeichnis zum Immateriellen Kulturerbe in Deutschland aufgenommen. Besser kann man nicht ausdrücken, dass auf dem Töpfermarkt Kunst, Handwerk und Kultur gleichermaßen angeboten werden.\n\nEine Besonderheit für unsere kleinen Gäste: Wenn es das Aprilwetter zulässt können sie sich beim Kindertöpfern unter Anleitung mit der Materie Ton auseinandersetzen und eigene Kunstwerke erschaffen.\n\nDie Besucher und auch die Presse waren von dem großen Angebot und dem einzigartigen Ambiente in den letzten Jahren sehr angetan!\nSicherlich werden auch Sie in diesem Jahr begeistert sein.\n\nSo manches neue Lieblingsstück wird Sie danach sicherlich auf Ihrem Weg nach Hause begleiten…
UID:EVENTS-15103-114583
END:VEVENT
END:VCALENDAR