BEGIN:VCALENDAR
PRODID:-//events.click-around.systems//click around EVENTS//DE
VERSION:2.0
METHOD:PUBLISH
BEGIN:VEVENT
CLASS:PUBLIC
DTSTART:20260425T140000
DTEND:20260425T150000
LOCATION:Innenstadt, Neustraße, 54290 Trier
DTSTAMP:20260425T114955
SUMMARY:Ökumenischer Pilgerweg
DESCRIPTION:Im Rahmen der Heilig-Rock-Tage 2026 laden der Themenschwerpunkt Schöpfung der Katholischen Erwachsenenbildung und die Evangelische Kirchengemeinde Trier ein zu einem kleinen Pilgerweg durch die innerstädtische Natur im Palastgarten. An drei Stationen geben Barbara Schartz und Susanne Symolka Impulse und kommen mit den Teilnehmenden über ihre Erfahrungen ins Gespräch. \n\nNeben dem Leitwort der Heilig-Rock-Tage und dem Motto der Ökumenischen Schöpfungszeit werden sie in diesem Jahr das Lied „Geh aus mein Herz und suche Freud“ in ihre Impulse einbeziehen – der Theologe und Dichter Paul Gerhard, der vor 350 Jahren gestorben ist, hat es geschrieben.\n\nTreffpunkt an den Treppenstufen schräg gegenüber der Eingangstüre der Basilika.
UID:EVENTS-15105-114587
END:VEVENT
END:VCALENDAR