BEGIN:VCALENDAR
PRODID:-//events.click-around.systems//click around EVENTS//DE
VERSION:2.0
METHOD:PUBLISH
BEGIN:VEVENT
CLASS:PUBLIC
DTSTART:20260418T193000
LOCATION:PROUD-Café, Mustorstraße 4, 54290 Trier
DTSTAMP:20260424T085531
SUMMARY:Jazz im PROUD-Café
DESCRIPTION:AZum Abschluss der Winterreihe - Jazz im PROUD-Café - spielt die Bach Band zu ihrem 30-jährigen Bestehen am 18.04.2026 um 19:30 Uhr im PROUD-Café.\n\nDie Bach Band besteht im Jahr 2026 seit nunmehr 30 Jahren. Und das Quintett besteht aus 2 Bläsern – Saxophon/Stefan Reinholz und Posaune/Fred Noll– plus Rhythmusgruppe - Pianist und Bandleader Ralf Bach, Kontrabassist Stefan Zawar-Schlegel und Drummer Christoph Traxel.\n\nDas Repertoire der Band hat sich im Laufe der Jahre immer wieder gewandelt und weiterentwickelt, von Bebop- und Hardbop-orientierten Einflüssen hin zu Modern-Jazz.\n\nSpäter wandte man sich verstärkt auch eigenem Material zu, etliche Kompositionen von Ralf Bach und „Daisy“ Becker – langjähriges Ex-Mitglied -, die Modern-Jazz orientiert sind, kamen zusätzlich ins Programm.\nDiese „Eigengewächse“ sind teils Hardbop-, teils modal ausgerichtet. Dabei wird die Musik nie beliebig, sondern behält immer Form, Struktur und Melodie, jedoch darf auch „das Chaos mal durchschimmern.
UID:EVENTS-15106-114588
END:VEVENT
END:VCALENDAR