BEGIN:VCALENDAR
PRODID:-//events.click-around.systems//click around EVENTS//DE
VERSION:2.0
METHOD:PUBLISH
BEGIN:VEVENT
CLASS:PUBLIC
DTSTART:20260425T143000
LOCATION:Broadway Filmtheater, Paulinstraße 18, 54292 Trier
DTSTAMP:20260425T115409
SUMMARY:Pferd am Stiel - Ein Hobby-Horsing-Abenteuer
DESCRIPTION:
UID:EVENTS-15119-115265
END:VEVENT
END:VCALENDAR