BEGIN:VCALENDAR
PRODID:-//events.click-around.systems//click around EVENTS//DE
VERSION:2.0
METHOD:PUBLISH
BEGIN:VEVENT
CLASS:PUBLIC
DTSTART:20260425T120500
LOCATION:CinemaxX, Moselstraße 17, 54290 Trier
DTSTAMP:20260425T115316
SUMMARY:Michael
DESCRIPTION:
UID:EVENTS-15124-115117
END:VEVENT
END:VCALENDAR