BEGIN:VCALENDAR
PRODID:-//events.click-around.systems//click around EVENTS//EN
VERSION:2.0
METHOD:PUBLISH
BEGIN:VEVENT
CLASS:PUBLIC
DTSTART:20260422T141000
LOCATION:CinemaxX, Moselstraße 17, 54290 Trier
DTSTAMP:20260424T090031
SUMMARY:Das Drama - Noch mal auf Anfang
DESCRIPTION:Ein glücklich verlobtes Paar steht kurz vor der Traumhochzeit – doch in den Tagen vor dem Ja-Wort bröckelt die Fassade. Eine unerwartete Enthüllung wirft nicht nur die Hochzeitsplanung aus der Bahn, sondern alles, was sie über einander zu wissen glauben.
UID:EVENTS-15126-114764
END:VEVENT
END:VCALENDAR