BEGIN:VCALENDAR
PRODID:-//events.click-around.systems//click around EVENTS//DE
VERSION:2.0
METHOD:PUBLISH
BEGIN:VEVENT
CLASS:PUBLIC
DTSTART:20260420T141500
LOCATION:Universität, Universitätsring, 54296 Trier
DTSTAMP:20260424T085204
SUMMARY:Nerds im Elfenbeinturm
DESCRIPTION:Vortrag von Prof. Dr. Marlene Altenmüller im Rahmen der Montagsvorträge im Campus der Generationen.
UID:EVENTS-15134-114920
END:VEVENT
END:VCALENDAR