BEGIN:VCALENDAR
PRODID:-//events.click-around.systems//click around EVENTS//DE
VERSION:2.0
METHOD:PUBLISH
BEGIN:VEVENT
CLASS:PUBLIC
DTSTART:20260424T090000
LOCATION:Bürgerhaus Trier-Nord, Franz-Georg-Straße  36, 54292 Trier
DTSTAMP:20260424T135206
SUMMARY:Fachtagung Zukunft Soziales Wohnen
DESCRIPTION:Ausgehend von aktuellen Krisendynamiken stellt die Tagung aktuelle Zukunftsthemen des sozialen Wohnens in den Vordergrund.
UID:EVENTS-15135-114921
END:VEVENT
END:VCALENDAR