BEGIN:VCALENDAR
PRODID:-//events.click-around.systems//click around EVENTS//DE
VERSION:2.0
METHOD:PUBLISH
BEGIN:VEVENT
CLASS:PUBLIC
DTSTART:20260425T120000
DTEND:20260425T160000
LOCATION:Pfarrkirche St. Paulus, Paulusplatz, 54290 Trier
DTSTAMP:20260425T115432
SUMMARY:Workshop: Kraftskulpturen bauen
DESCRIPTION:Bastelworkshop: Zwischen Altar und Alltag, „Was bleibt?“ Kraftskulpturen aus Erde und Pfand\n\nMaximale Teilnehmer:innenzahl: 12  | geeignet für Teilnemher:innen von ca. 7-99 Jahren | Es sind keine Vorkenntnisse notwendig.\n\nAus Erde und Alltagsmaterialien entstehen im Raum der Pauluskirche kollektive Kraftskulpturen. Die Materialien liegen im Raum wie Plastikmüll am Strand.\n\nTeilnehmer:innen verwandeln sie in Kraftskulpturen und so entsteht ein spielerischer, aber kritischer Blick auf Konsum, Umweltbewusstsein und die Frage, was sich durch Recycling tatsächlich verändert – und was nicht. Die im Workshop entstandenen Kraftskulpturen werden während der Triennale gemeinsam mit den Namen der Teilnehmenden ausgestellt.\n\nMit den Künstlerinnen: Gin Bahc und Anna-Lina Helsen
UID:EVENTS-15167-114999
END:VEVENT
END:VCALENDAR