BEGIN:VCALENDAR
PRODID:-//events.click-around.systems//click around EVENTS//EN
VERSION:2.0
METHOD:PUBLISH
BEGIN:VEVENT
CLASS:PUBLIC
DTSTART:20260418T083000
LOCATION:Mosel-Apotheke Pharmacy, Ehranger Straße 136, 54293 Trier
DTSTAMP:20260424T085812
SUMMARY:Mosel-Apotheke
DESCRIPTION:
UID:EVENTS-179-106744
END:VEVENT
END:VCALENDAR