BEGIN:VCALENDAR
PRODID:-//events.click-around.systems//click around EVENTS//EN
VERSION:2.0
METHOD:PUBLISH
BEGIN:VEVENT
CLASS:PUBLIC
DTSTART:20260418T000000
DTEND:20260418T235900
LOCATION:Parkhaus Hauptmarkt, Walramsneustraße 1 e, 54290 Trier
DTSTAMP:20260424T084201
SUMMARY:Hauptmarkt parking garage
DESCRIPTION:Entrance height: 1.90 meters\nAdjustment angle: straight\nPayment options: Cash from 10 cents to 50 euros, premium parking card\nPitches: 344\nDisabled parking spaces: Yes\nWomen's parking spaces: Yes\nWC: Yes\nDisabled toilet: No\nElevator: Yes\nSecurity: 24-hour contact person in the control center
UID:EVENTS-240-99557
END:VEVENT
END:VCALENDAR