BEGIN:VCALENDAR
PRODID:-//events.click-around.systems//click around EVENTS//DE
VERSION:2.0
METHOD:PUBLISH
BEGIN:VEVENT
CLASS:PUBLIC
DTSTART:20260425T000000
DTEND:20260425T235900
LOCATION:Parkhaus Hauptmarkt, Walramsneustraße 1 e, 54290 Trier
DTSTAMP:20260425T114510
SUMMARY:Parkhaus Hauptmarkt
DESCRIPTION:Einfahrtshöhe: 1,90 Meter\nEinstellwinkel: gerade\nZahlungsmöglichkeiten: Bargeld von 10 Cent bis 50 Euro-Schein, Girocard, Visa, V-Pay, Master-Card, Maestro, "Komfort-Parken"\nStellplätze: 344\nBehinderten-Parkplätze: Ja\nFrauenparkplätze: Ja\nWC: Ja\nBehinderten WC: Nein\nAufzug: Ja\nSicherheit: 24 Stunden Ansprechpartner in der Leitstelle
UID:EVENTS-240-99564
END:VEVENT
END:VCALENDAR