BEGIN:VCALENDAR
PRODID:-//events.click-around.systems//click around EVENTS//EN
VERSION:2.0
METHOD:PUBLISH
BEGIN:VEVENT
CLASS:PUBLIC
DTSTART:20260422T000000
DTEND:20260422T235900
LOCATION:City Parkhaus, Zuckerbergstraße 31, 54290 Trier
DTSTAMP:20260424T085205
SUMMARY:City parking garage
DESCRIPTION:Entrance height: 1.90 meters\nSetting angle: oblique\nPayment options: Cash from 10 cents to 50 euros, premium parking card\nPitches: 950\nDisabled parking spaces: Yes\nWomen's parking spaces: Yes\nWC: Yes\nDisabled toilet: Yes (Euro toilet key)\nElevator: Yes\nSecurity: 24-hour contact person in the control center\nOther: Transition and underpass to the TrierGalerie, control center, customer center
UID:EVENTS-241-99196
END:VEVENT
END:VCALENDAR