BEGIN:VCALENDAR
PRODID:-//events.click-around.systems//click around EVENTS//DE
VERSION:2.0
METHOD:PUBLISH
BEGIN:VEVENT
CLASS:PUBLIC
DTSTART:20260425T000000
DTEND:20260425T235900
LOCATION:City Parkhaus, Zuckerbergstraße 31, 54290 Trier
DTSTAMP:20260425T114359
SUMMARY:Parkhaus City
DESCRIPTION:Einfahrtshöhe: 1,90 Meter\nEinstellwinkel: schräg\nZahlungsmöglichkeiten: Bargeld von 10 Cent bis 50 Euro-Schein, Girocard, Visa, V-Pay, Master-Card, Maestro, "Komfort-Parken"\nStellplätze: 950\nBehinderten-Parkplätze: Ja\nFrauenparkplätze: Ja\nWC: Ja\nBehinderten WC: Ja (Euro-WC-Schlüssel)\nAufzug: Ja\nSicherheit: 24 Stunden Ansprechpartner in der Leitstelle\nSonstiges: Übergang und Unterführung zur TrierGalerie, Leitstand, Kundenzentrum
UID:EVENTS-241-99199
END:VEVENT
END:VCALENDAR