BEGIN:VCALENDAR
PRODID:-//events.click-around.systems//click around EVENTS//DE
VERSION:2.0
METHOD:PUBLISH
BEGIN:VEVENT
CLASS:PUBLIC
DTSTART:20260425T120000
LOCATION:Bischöfliche Weingüter, Gervasiusstraße 1, 54290 Trier
DTSTAMP:20260425T114655
SUMMARY:Kellerführung
DESCRIPTION:Weinkellerführung (60 Minuten):\n\nSteigen Sie hinab in die historischen und von den Römern angelegten Gewölbe, und holen Sie sich ein eindrückliches Bild: 240 historische Moselfuder lagern hier zwischen den alten Mauern! Ein einmaliges Wein-Kultur-Erlebnis mit Sektempfang und Weinflasche als Präsent inklusive.\n\nEinlass: 15 Minuten vor Beginn\n\nDie wichtigen Informationen und Besucherregeln der Bischöflichen Weingüter Trier können <a  href="https://www.ticket-regional.de/style/_event/eventgroup1998/event199851/eventspecialfile_event199851_0.pdf" class="underline"  target="_blank" >HIER</a>  eingesehen werden.
UID:EVENTS-3154-92738
END:VEVENT
END:VCALENDAR