BEGIN:VCALENDAR
PRODID:-//events.click-around.systems//click around EVENTS//DE
VERSION:2.0
METHOD:PUBLISH
BEGIN:VEVENT
CLASS:PUBLIC
DTSTART:20260425T153000
LOCATION:Dom-Information, Liebfrauenstraße 12, 54290 Trier
DTSTAMP:20260425T114807
SUMMARY:Führung durch die Ausgrabungen
DESCRIPTION:Kurz nach dem sog. „Toleranzedikt“ Kaiser Konstantins im Jahr 313 begann in Trier das riesige Dombauprojekt aus vier miteinander verbundenen Basiliken, das in knapp 70 Jahren einen riesigen Kirchenkomplex entstehen ließ. In den Ausgrabungen unter der Dom-Information lassen sich die Anfänge aus den Jahren 280 n. Chr., als sich die Christen noch in einer Hauskirche trafen, die früheren Ausmaße der ersten Kirchen und die zwischenzeitlichen Zerstörungen heute noch erfassen.\n\nEs ist eine einzigartige Reise in eine Zeit, in der die Christen von einer verfolgten Minderheit zu einer staatlich geförderten Religionsgemeinschaft aufstiegen, als Kriege, Brände und Eroberungen die Stadt immer wieder erschütterten und die Architekturgeschichte des Kirchenbaus ihren Anfang nahm - in Trier!\n\n**********\n\nWichtige Informationen:\n- Es handelt sich um eine Führung mit ernstem Hintergrund; sie ist daher für Kinder nicht geeignet. Wir empfehlen die Führung für Gäste ab 14 Jahren.
UID:EVENTS-3661-88058
END:VEVENT
END:VCALENDAR