BEGIN:VCALENDAR
PRODID:-//events.click-around.systems//click around EVENTS//DE
VERSION:2.0
METHOD:PUBLISH
BEGIN:VEVENT
CLASS:PUBLIC
DTSTART:20260420T110000
LOCATION:Tourist-Information Trier, An der Porta Nigra, 54290 Trier
DTSTAMP:20260424T085118
SUMMARY:Stadtführung Trier
DESCRIPTION:Unser Stadtrundgang 1 zeigt Ihnen eine Auswahl der Klassiker unserer Innenstadt und die haben es in sich: Mit Porta Nigra, Dom und Liebfrauenkirche und Basilika passieren Sie gleich vier Bauwerke, die Teil unseres UNESCO-Welterbes sind.\n\nGanz im Zeichen der Römer beginnt die Tour durch das Zentrum der Antike mit dem berühmtesten Bauwerk der Stadt, der Porta Nigra. Anschließend erleben Sie mit Dreikönigenhaus, Judengasse und Hauptmarkt die faszinierende Zeit des Mittelalters, als wehrhafte Bürger durch architektonische Tricks ihr Hab und Gut zu schützen versuchten, Petrus zum Stadtpatron wurde und selbstbewusste Bürger gegen den Bischof um die Reichsunmittelbarkeit kämpften – ein Kampf, der mitunter auch mit Rittern, Affen und Kirchtürmen ausgefochten wurde. Und mit dem Domfreihof und dem Kurfürstlichen Palais tauchen Sie ein in die barocke Pracht der Neuzeit.\n\nVerlauf: Porta Nigra / Simeonstift - Dreikönigenhaus - Hauptmarkt - Dom -  Basilika (Innenbesichtigung) - Kurfürstliches Palais\n\nDie AGB der Trier Tourismus und Marketing GmbH finden Sie <a  href="https://www.ticket-regional.de/style/_event/eventgroup1755/event175567/eventspecialfile_event175567_0.pdf" class="underline"  target="_blank" >HIER</a>
UID:EVENTS-4287-89222
END:VEVENT
END:VCALENDAR