BEGIN:VCALENDAR
PRODID:-//events.click-around.systems//click around EVENTS//EN
VERSION:2.0
METHOD:PUBLISH
BEGIN:VEVENT
CLASS:PUBLIC
DTSTART:20260422T100000
DTEND:20260422T130000
LOCATION:Karl-Marx-Haus, Brückenstraße 10, 54290 Trier
DTSTAMP:20260424T090053
SUMMARY:Karl Marx House
DESCRIPTION:The house where Karl Marx was born, built around 1727 as a baroque house, houses an exhibition that is dedicated to the person, the social and capitalism critic of the 19th century and the effects of his ideas to this day from a global perspective. \n\nPrivate, as a company outing or with the school class: plan your visit to the Karl-Marx-Haus. Take part in interesting themed tours and workshops, explore the house or linger in the garden.
UID:EVENTS-5145-104388
END:VEVENT
END:VCALENDAR