BEGIN:VCALENDAR
PRODID:-//events.click-around.systems//click around EVENTS//DE
VERSION:2.0
METHOD:PUBLISH
BEGIN:VEVENT
CLASS:PUBLIC
DTSTART:20260425T100000
DTEND:20260425T130000
LOCATION:Karl-Marx-Haus, Brückenstraße 10, 54290 Trier
DTSTAMP:20260425T115107
SUMMARY:Karl-Marx-Haus
DESCRIPTION:Das Geburtshaus von Karl Marx, um 1727 als barockes Wohnhaus erbaut, beherbergt eine Ausstellung, die sich der Person, dem Gesellschafts- und Kapitalismuskritiker des 19. Jahrhunderts sowie den Auswirkungen seiner Ideen bis heute in globaler Perspektive widmet.\n\nPrivat, als Betriebsausflug oder mit der Schulklasse: Planen Sie Ihren Besuch im Karl-Marx-Haus. Nehmen Sie an interessanten Themenführungen und Workshops teil, erkunden Sie das Haus oder verweilen Sie im Garten.
UID:EVENTS-5145-104391
END:VEVENT
END:VCALENDAR