BEGIN:VCALENDAR
PRODID:-//events.click-around.systems//click around EVENTS//DE
VERSION:2.0
METHOD:PUBLISH
BEGIN:VEVENT
CLASS:PUBLIC
DTSTART:20260418T160000
LOCATION:Tourist-Information Trier, An der Porta Nigra, 54290 Trier
DTSTAMP:20260424T085251
SUMMARY:Moselwein trifft Geschichte
DESCRIPTION:Trier ist eine der größten deutschen Weinmetropolen und viele ihrer Sehenswürdigkeiten haben eine enge Verbindung zum Wein. Entdecken Sie die Stadt bei einer kurzweiligen Rundwanderung, die mit einer kommentierten Lauf-Weinprobe verbunden wird.\n\nStarten Sie mit einem Glas Elbling an der Porta Nigra, probieren Sie ein Glas feinherben Riesling am Hauptmarkt und lassen Sie sich anschließend im Historischen Weinkeller des Palais Kesselstatt vom heimischen Sekt beeindrucken.\n      \nHinweise:\nWir empfehlen die Führung für Gäste ab 16 Jahren. Gemäß dem Jugendschutzgesetz geben wir keinen Wein/Viez an Jugendliche unter 16 Jahren ab.\nPreis inkl. 2 Gläser Wein und 1 Glas Sekt\nVerlauf: Porta Nigra - Hauptmarkt - Domfreihof - Palais Kesselstatt\n\nDie AGB der Trier Tourismus und Marketing GmbH finden Sie <a  href="https://www.ticket-regional.de/style/_event/eventgroup1827/event182796/eventspecialfile_event182796_0.pdf" class="underline"  target="_blank" >HIER</a>
UID:EVENTS-5610-108116
END:VEVENT
END:VCALENDAR