BEGIN:VCALENDAR
PRODID:-//events.click-around.systems//click around EVENTS//EN
VERSION:2.0
METHOD:PUBLISH
BEGIN:VEVENT
CLASS:PUBLIC
DTSTART:20260418T060000
DTEND:20260418T210000
LOCATION:Das Bad an den Kaiserthermen, Südallee 10-12, 54290 Trier
DTSTAMP:20260424T084705
SUMMARY:Bad Kaiserthermen
DESCRIPTION:The indoor swimming hall offers various pools with water temperatures between 80.6 °F and 87.8 °F (27 and 31 °C), children’s adventure landscape, water slide (246 ft/75 m) with light effects, sauna garden, pool bistro, sun rooms, massage, gymnastics room, relaxing areas, sunning terrace, family changing rooms, baby changing tables, and much more.
UID:EVENTS-6325-96353
END:VEVENT
END:VCALENDAR