BEGIN:VCALENDAR
PRODID:-//events.click-around.systems//click around EVENTS//DE
VERSION:2.0
METHOD:PUBLISH
BEGIN:VEVENT
CLASS:PUBLIC
DTSTART:20260425T060000
DTEND:20260425T210000
LOCATION:Das Bad an den Kaiserthermen, Südallee 10-12, 54290 Trier
DTSTAMP:20260425T114643
SUMMARY:Bad Kaiserthermen: Schwimmhalle
DESCRIPTION:Das Bad an den Kaiserthermen bietet auf rund 920 Quadratmetern Wasserfläche reichlich Platz für Sport, Spiel und Spaß, für Klein und Groß, Jung und Alt. Das Bad-Bistro und die Sonnenterasse runden das Angebot in der Schwimmhalle ab.\n\n- Schwimmerbecken\n- Springerbecken (mit einem 1-Meter- und 3-Meter Brett und sowie einem "Fünfer")\n- Freizeitbecken (Nichtschwimmerbecken) \n- Mehrzweckbecken mit Schwimmer- und Nichtschwimmerbereich \n- Lehrschwimmbecken (räumlich getrennt; kann bei Bedarf privat gemietet werden) \n- Kindererlebnislandschaft im Piratenlook\n- Riesen-Rutsche "Kaiser-Blitz": 75-Meter länge und Lichteffekte \n\nDas Sonnendeck - ein großzügig angelegter Freiluftbereich auf Höhe der Baumkronen - macht das Bad an den Kaiserthermen auch im Sommer zur echten Alternative. Auf bequemen Liegestühlen und unter schattenspendenden Sonnenschirmen können Sie hier nach Herzenslust Sonne tanken. Sie brauchen nur ein Handtuch und Sonnencreme.\n\nWas wäre ein Besuch im Schwimmbad ohne Eis am Stiel oder eine Portion Pommes? Im Bad-Bistro bekommen Sie leckere Snacks und Getränke. Auch die Saunabesucher können hier ihren Flüssigkeitshaushalt ausgleichen oder einen gesunden Salat genießen. Aber Achtung: Bei einer Runde Billard oder "Mensch ärger dich nicht" mit der Familie können Sie im Bad-Bistro schnell die Zeit vergessen.\n\n\nDauer 2,50 Stunden
UID:EVENTS-6325-96354
END:VEVENT
END:VCALENDAR