BEGIN:VCALENDAR
PRODID:-//events.click-around.systems//click around EVENTS//EN
VERSION:2.0
METHOD:PUBLISH
BEGIN:VEVENT
CLASS:PUBLIC
DTSTART:20260418T143000
LOCATION:Porta Nigra, Simeonstraße 60, 54290 Trier
DTSTAMP:20260424T090103
SUMMARY:Secrets of the Porta Nigra
DESCRIPTION:Be there live when the Porta Nigra has to be defended against attacking barbarians? This works out! In the adventure tour "The Secret of the Porta Nigra", participants can expect a fascinating journey through time to Roman Trier 1800 years ago, when life was dangerous and daily work was tedious - especially as a Roman soldier. The centurion also has a lot to report:\n\nPlayed by a professional actor, it tells of glamorous splendor and dark struggle, of fame and transience, of Roman pride and barbaric defiance.\n\n"The Secret of the Porta Nigra" is the public's favorite of our adventure tours and guarantees a different view of and into the Roman building that represents the UNESCO World Heritage City of Trier like no other: the Porta Nigra. The viewers are drawn interactively into the exciting history of the building and quickly get the feeling that something doesn't seem right with the centurion in front of them. Will they be right? Find out for yourself!\n\nA notice:\nWe recommend this adventure tour for viewers aged 10 and over.\n\nThe tour is not suitable for wheelchair users and people with motor disabilities.\n\nDogs are unfortunately not allowed at the event.
UID:EVENTS-6683-114269
END:VEVENT
END:VCALENDAR