BEGIN:VCALENDAR
PRODID:-//events.click-around.systems//click around EVENTS//DE
VERSION:2.0
METHOD:PUBLISH
BEGIN:VEVENT
CLASS:PUBLIC
DTSTART:20260425T130000
LOCATION:Porta Nigra, Simeonstraße 60, 54290 Trier
DTSTAMP:20260425T114801
SUMMARY:Das Geheimnis der Porta Nigra
DESCRIPTION:Live dabei sein, wenn die Porta Nigra gegen angreifende Barbaren verteidigt werden muss? Das geht! In der Erlebnisführung „Das Geheimnis der Porta Nigra“ erwartet die Teilnehmer eine faszinierende Zeitreise in das römische Trier vor 1800 Jahren, als das Leben gefährlich und die tägliche Arbeit mühsam war – erst recht als römischer Soldat. Entsprechend viel hat der Zenturio auch zu berichten: \n\nGespielt von einem professionellen Schauspieler erzählt er von glanzvoller Pracht und düsterem Kampf, von Ruhm und Vergänglichkeit, von römischem Stolz und barbarischem Trotz.\n\n„Das Geheimnis der Porta Nigra“ ist der Publikumsliebling unserer Erlebnisführungen und garantiert einen anderen Blick auf und in das römische Gebäude, das wie kein anderes die UNESCO-Welterbestadt Trier repräsentiert: die Porta Nigra. Interaktiv werden die Zuschauer in die spannende Geschichte des Bauwerks hineingezogen und schnell das Gefühl nicht los, dass irgendetwas mit dem Zenturio vor ihnen nicht zu stimmen scheint. Ob sie Recht behalten werden? Finden Sie es selbst heraus!\n\nHinweis:\nWir empfehlen diese Erlebnisführung für Zuschauer ab ca. 10 Jahren.\n\nDie Führung ist nicht geeignet für Rollstuhlfahrer und Menschen mit motorischer Behinderung.\n\nHunde sind bei der Veranstaltung leider nicht erlaubt.\n\nDie AGB der Trier Tourismus und Marketing GmbH finden Sie <a  href="https://www.ticket-regional.de/style/_event/eventgroup1851/event185124/eventspecialfile_event185124_0.pdf" class="underline"  target="_blank" >HIER</a>
UID:EVENTS-6683-89077
END:VEVENT
END:VCALENDAR