BEGIN:VCALENDAR
PRODID:-//events.click-around.systems//click around EVENTS//EN
VERSION:2.0
METHOD:PUBLISH
BEGIN:VEVENT
CLASS:PUBLIC
DTSTART:20260422T103000
DTEND:20260422T171500
LOCATION:Dom-Information, Liebfrauenstraße 12, 54290 Trier
DTSTAMP:20260424T085853
SUMMARY:Cathedral Information
DESCRIPTION:The Cathedral Information is the visitor centre of Trier Cathedral and offers the following services:\n- Information about the cathedral, the inner-city churches and the ecclesiastical offerings in Trier.\n- On-site contact in the cathedral, also for pilgrims of St James\n- Development and organisation of cathedral tours, themed tours, children's tours and city walks with a Christian theme\n- Meditative art contemplations in the cathedral\n- Lectures, events, workshops\n- Development and sale of cathedral brochures, picture postcards, cathedral films, cathedral literature, cathedral music CDs, pilgrim pins, Christian souvenirs\n- Ticket regional advance booking office\n- Sale of "Domstein®" souvenirs
UID:EVENTS-7570-109485
END:VEVENT
END:VCALENDAR