BEGIN:VCALENDAR
PRODID:-//events.click-around.systems//click around EVENTS//DE
VERSION:2.0
METHOD:PUBLISH
BEGIN:VEVENT
CLASS:PUBLIC
DTSTART:20260425T103000
DTEND:20260425T171500
LOCATION:Dom-Information, Liebfrauenstraße 12, 54290 Trier
DTSTAMP:20260425T114655
SUMMARY:Dom-Information
DESCRIPTION:Die Dom-Information ist das Besucherzentrum des Trierer Doms und bietet folgende Serviceleistungen an:\n- Auskünfte über den Dom, die Innenstadtkirchen und das kirchliche Angebot in Trier\n- Ansprechpartner vor Ort im Dom, auch für Jakobspilger\n- Entwicklung und Organisation von Domführungen, Themenführungen, Kinderführungen und Stadtgänge mit christlicher Thematik\n- Meditativ gestaltete Kunstbetrachtungen im Dom\n- Vorträge, Veranstaltungen, Workshops\n- Entwicklung und Verkauf von Dom-Broschüren, Bildpostkarten, Dom-Filmen, Dom-Literatur, CD’s der Dommusik, Pilgernadeln, christliche Souvenirs\n- Ticket Regional-Vorverkaufsstelle\n- Verkauf der "Domstein®"-Souvenirs
UID:EVENTS-7570-109488
END:VEVENT
END:VCALENDAR