BEGIN:VCALENDAR
PRODID:-//events.click-around.systems//click around EVENTS//EN
VERSION:2.0
METHOD:PUBLISH
BEGIN:VEVENT
CLASS:PUBLIC
DTSTART:20260418T120000
LOCATION:Bischöfliche Weingüter, Gervasiusstraße 1, 54290 Trier
DTSTAMP:20260424T085853
SUMMARY:Weinwandelprobe (90 Minuten)
DESCRIPTION:Descend into the historic vaults, built by the Romans, and walk with us along the ancient walls!\n\nA unique wine and culture experience with a sparkling wine reception, three Rieslings, and a bottle of wine as a gift included.\n\nThe important information and visitor regulations of the Episcopal Wineries of Trier can be viewed <a  href="https://www.ticket-regional.de/style/_event/eventgroup1963/event196322/eventspecialfile_event196322_0.pdf" class="underline"  target="_blank" >HERE</a>.
UID:EVENTS-8622-92726
END:VEVENT
END:VCALENDAR