BEGIN:VCALENDAR
PRODID:-//events.click-around.systems//click around EVENTS//DE
VERSION:2.0
METHOD:PUBLISH
BEGIN:VEVENT
CLASS:PUBLIC
DTSTART:20260418T123000
LOCATION:Frankenturm, Dietrichstraße 6, 54290 Trier
DTSTAMP:20260424T084813
SUMMARY:Treverer Code - VR-Stadtrundgang
DESCRIPTION:Ein helles Leuchten und technisches Rauschen und auf einmal stehen Sie mitten in den Kaiserthermen. Doch halt – irgendetwas stimmt hier nicht: Wasser plätschert, Menschen waschen sich an den Wasserbecken vor Ihnen und bunt verzierte Wände ragen in die Höhe. Beim Stadtrundgang „Treverer Code“ reisen Sie beim Blick durch die VR-Brille direkt zurück in das antike Trier.\n\nMitten aus dem Jahr 2023 heraus begeben Sie sich beim „Treverer Code“ auf eine aufregende Reise in die Vergangenheit. Für den etwa 120-minütigen Stadtrundgang erhalten Sie eine VR-Brille, durch welche Sie an fünf verschiedenen Stationen in das Leben im antiken Augusta Treverorum eintauchen. Da gibt es einiges zu sehen: von den Anfängen der Stadt, über die Entstehung monumentaler Bauwerke bis hin zu einer Audienz bei einem waschechten Kaiser. Da sind Überraschungen quasi vorprogrammiert. Direkt vor Ort sehen Sie, welche Veränderungen die Stadt seit dem Jahr 56 v. Chr. durchlaufen hat. Geschickt navigiert ein Gästeführer dabei Ihre Zeitreise und weiß das Gesehene mit allerlei zusätzlichem Wissen und Anekdoten zu ergänzen. Können Sie den „Treverer Code“ entschlüsseln?\n      \nHinweise:\nBitte informieren Sie sich vor der Buchung über die Allgemeinen Geschäftsbedingungen unter www.treverer-code.de\nWir empfehlen 10 Minuten vor Termin am Treffpunkt vor dem Frankenturm zu sein. Vor Ort erfolgt kein Ticketverkauf.\nMindestalter für Teilnehmende: 13 Jahre (Nachweis bei Führungsbeginn erforderlich)\n\nDie AGB der Trier Tourismus und Marketing GmbH finden Sie <a  href="https://www.ticket-regional.de/style/_event/eventgroup2078/event207837/eventspecialfile_event207837_0.pdf" class="underline"  target="_blank" >HIER</a>
UID:EVENTS-8634-94355
END:VEVENT
END:VCALENDAR