BEGIN:VCALENDAR
PRODID:-//events.click-around.systems//click around EVENTS//EN
VERSION:2.0
METHOD:PUBLISH
BEGIN:VEVENT
CLASS:PUBLIC
DTSTART:20260420T080000
DTEND:20260420T180000
LOCATION:Kirche St. Gangolf, Hauptmarkt 9, 54290 Trier
DTSTAMP:20260424T085331
SUMMARY:Sankt Gangolf
DESCRIPTION:
UID:EVENTS-9157-103209
END:VEVENT
END:VCALENDAR