BEGIN:VCALENDAR
PRODID:-//events.click-around.systems//click around EVENTS//DE
VERSION:2.0
METHOD:PUBLISH
BEGIN:VEVENT
CLASS:PUBLIC
DTSTART:20260425T080000
DTEND:20260425T180000
LOCATION:Kirche St. Gangolf, Hauptmarkt 9, 54290 Trier
DTSTAMP:20260425T114649
SUMMARY:Sankt Gangolf
DESCRIPTION:
UID:EVENTS-9157-103214
END:VEVENT
END:VCALENDAR